BEGIN:VCALENDAR
VERSION:2.0
PRODID:-//Upper Fairfield Township - ECPv6.5.1.4//NONSGML v1.0//EN
CALSCALE:GREGORIAN
METHOD:PUBLISH
X-WR-CALNAME:Upper Fairfield Township
X-ORIGINAL-URL:https://upperfairfieldtwp.org
X-WR-CALDESC:Events for Upper Fairfield Township
REFRESH-INTERVAL;VALUE=DURATION:PT1H
X-Robots-Tag:noindex
X-PUBLISHED-TTL:PT1H
BEGIN:VTIMEZONE
TZID:UTC
BEGIN:STANDARD
TZOFFSETFROM:+0000
TZOFFSETTO:+0000
TZNAME:UTC
DTSTART:20240101T000000
END:STANDARD
END:VTIMEZONE
BEGIN:VEVENT
DTSTART;TZID=UTC:20260812T160000
DTEND;TZID=UTC:20260812T235900
DTSTAMP:20260423T230237
CREATED:20221119T162012Z
LAST-MODIFIED:20260127T160941Z
UID:1266-1786550400-1786579140@upperfairfieldtwp.org
SUMMARY:Supervisor Meeting
DESCRIPTION:UFT Agenda 8-14-2024
URL:https://upperfairfieldtwp.org/event/supervisor-meeting-16-2-2-2-2-3-6-5-5-2-7-3-4-5/
LOCATION:Upper Fairfield Township Office\, 4090 Route 87 Hwy.\, Montoursville\, PA\, 17754\, United States
ATTACH;FMTTYPE=:
END:VEVENT
BEGIN:VEVENT
DTSTART;TZID=UTC:20260708T160000
DTEND;TZID=UTC:20260708T235900
DTSTAMP:20260423T230237
CREATED:20221119T161921Z
LAST-MODIFIED:20260127T160907Z
UID:1271-1783526400-1783555140@upperfairfieldtwp.org
SUMMARY:Supervisor Meeting
DESCRIPTION:UFT Agenda 7-9-2025
URL:https://upperfairfieldtwp.org/event/supervisor-meeting-16-2-2-2-2-3-6-5-5-2-7-3-4-4/
LOCATION:Upper Fairfield Township Office\, 4090 Route 87 Hwy.\, Montoursville\, PA\, 17754\, United States
ATTACH;FMTTYPE=:
END:VEVENT
BEGIN:VEVENT
DTSTART;TZID=UTC:20260610T160000
DTEND;TZID=UTC:20260610T235900
DTSTAMP:20260423T230237
CREATED:20221119T161843Z
LAST-MODIFIED:20260127T160650Z
UID:1270-1781107200-1781135940@upperfairfieldtwp.org
SUMMARY:Supervisor Meeting
DESCRIPTION:UFT Agenda 6-11-2025
URL:https://upperfairfieldtwp.org/event/supervisor-meeting-16-2-2-2-2-3-6-5-5-2-7-3-4-3/
LOCATION:Upper Fairfield Township Office\, 4090 Route 87 Hwy.\, Montoursville\, PA\, 17754\, United States
ATTACH;FMTTYPE=:
END:VEVENT
BEGIN:VEVENT
DTSTART;TZID=UTC:20260513T160000
DTEND;TZID=UTC:20260513T235900
DTSTAMP:20260423T230237
CREATED:20221119T161815Z
LAST-MODIFIED:20260127T160610Z
UID:1269-1778688000-1778716740@upperfairfieldtwp.org
SUMMARY:Supervisor Meeting
DESCRIPTION:UFT Agenda 5-14-2025
URL:https://upperfairfieldtwp.org/event/supervisor-meeting-16-2-2-2-2-3-6-5-5-2-7-3-4-2/
LOCATION:Upper Fairfield Township Office\, 4090 Route 87 Hwy.\, Montoursville\, PA\, 17754\, United States
ATTACH;FMTTYPE=:
END:VEVENT
BEGIN:VEVENT
DTSTART;TZID=UTC:20260408T160000
DTEND;TZID=UTC:20260408T235900
DTSTAMP:20260423T230237
CREATED:20221119T161720Z
LAST-MODIFIED:20260127T160527Z
UID:1258-1775664000-1775692740@upperfairfieldtwp.org
SUMMARY:Supervisor Meeting
DESCRIPTION:UFT Agenda 4-9-2025
URL:https://upperfairfieldtwp.org/event/supervisor-meeting-16-2-2-2-2-3-6-5-5-2-7-3-4/
LOCATION:Upper Fairfield Township Office\, 4090 Route 87 Hwy.\, Montoursville\, PA\, 17754\, United States
ATTACH;FMTTYPE=:
END:VEVENT
BEGIN:VEVENT
DTSTART;TZID=UTC:20260311T160000
DTEND;TZID=UTC:20260311T235900
DTSTAMP:20260423T230237
CREATED:20221119T161624Z
LAST-MODIFIED:20260127T160446Z
UID:1257-1773244800-1773273540@upperfairfieldtwp.org
SUMMARY:Supervisor Meeting
DESCRIPTION:UFT Agenda 3-12-2025
URL:https://upperfairfieldtwp.org/event/supervisor-meeting-16-2-2-2-2-3-6-5-5-2-7-3-3/
LOCATION:Upper Fairfield Township Office\, 4090 Route 87 Hwy.\, Montoursville\, PA\, 17754\, United States
ATTACH;FMTTYPE=:
END:VEVENT
BEGIN:VEVENT
DTSTART;TZID=UTC:20260211T160000
DTEND;TZID=UTC:20260211T235900
DTSTAMP:20260423T230237
CREATED:20221119T161523Z
LAST-MODIFIED:20260127T160341Z
UID:1256-1770825600-1770854340@upperfairfieldtwp.org
SUMMARY:Supervisor Meeting
DESCRIPTION:UFT Agenda 2-19-2025 \n 
URL:https://upperfairfieldtwp.org/event/supervisor-meeting-16-2-2-2-2-3-6-5-5-2-7-3-2/
LOCATION:Upper Fairfield Township Office\, 4090 Route 87 Hwy.\, Montoursville\, PA\, 17754\, United States
ATTACH;FMTTYPE=:
END:VEVENT
BEGIN:VEVENT
DTSTART;TZID=UTC:20260105T153000
DTEND;TZID=UTC:20260105T235900
DTSTAMP:20260423T230237
CREATED:20221119T161154Z
LAST-MODIFIED:20251230T164556Z
UID:1252-1767627000-1767657540@upperfairfieldtwp.org
SUMMARY:Organization Meeting followed by Board of Supervisors Meeting
DESCRIPTION:UFTAgenda-Reorganization1-6-25 \nUFT Agenda 1-6-2025
URL:https://upperfairfieldtwp.org/event/supervisor-meeting-16-2-2-2-2-3-6-6-3-2-2-2-2-2-2-2-2-2-2-2-2-2-2/
LOCATION:Upper Fairfield Township Office\, 4090 Route 87 Hwy.\, Montoursville\, PA\, 17754\, United States
ATTACH;FMTTYPE=:
END:VEVENT
BEGIN:VEVENT
DTSTART;TZID=UTC:20240110T190000
DTEND;TZID=UTC:20240110T190000
DTSTAMP:20260423T230237
CREATED:20221119T161358Z
LAST-MODIFIED:20240109T200739Z
UID:1254-1704913200-1704913200@upperfairfieldtwp.org
SUMMARY:Supervisor Meeting
DESCRIPTION:UFT Agenda 1-10-2024
URL:https://upperfairfieldtwp.org/event/supervisor-meeting-16-2-2-2-2-3-6-5-5-2-7-3/
LOCATION:Upper Fairfield Township Office\, 4090 Route 87 Hwy.\, Montoursville\, PA\, 17754\, United States
ATTACH;FMTTYPE=:
END:VEVENT
END:VCALENDAR