BEGIN:VCALENDAR
VERSION:2.0
PRODID:-//Upper Fairfield Township - ECPv6.5.1.4//NONSGML v1.0//EN
CALSCALE:GREGORIAN
METHOD:PUBLISH
X-WR-CALNAME:Upper Fairfield Township
X-ORIGINAL-URL:https://upperfairfieldtwp.org
X-WR-CALDESC:Events for Upper Fairfield Township
REFRESH-INTERVAL;VALUE=DURATION:PT1H
X-Robots-Tag:noindex
X-PUBLISHED-TTL:PT1H
BEGIN:VTIMEZONE
TZID:UTC
BEGIN:STANDARD
TZOFFSETFROM:+0000
TZOFFSETTO:+0000
TZNAME:UTC
DTSTART:20260101T000000
END:STANDARD
END:VTIMEZONE
BEGIN:VEVENT
DTSTART;TZID=UTC:20260211T160000
DTEND;TZID=UTC:20260211T235900
DTSTAMP:20260423T163225
CREATED:20221119T161523Z
LAST-MODIFIED:20260127T160341Z
UID:1256-1770825600-1770854340@upperfairfieldtwp.org
SUMMARY:Supervisor Meeting
DESCRIPTION:UFT Agenda 2-19-2025 \n 
URL:https://upperfairfieldtwp.org/event/supervisor-meeting-16-2-2-2-2-3-6-5-5-2-7-3-2/
LOCATION:Upper Fairfield Township Office\, 4090 Route 87 Hwy.\, Montoursville\, PA\, 17754\, United States
ATTACH;FMTTYPE=:
END:VEVENT
END:VCALENDAR